BEGIN:VCALENDAR
VERSION:2.0
PRODID:-//Tambouren Steinen - ECPv6.15.20//NONSGML v1.0//EN
CALSCALE:GREGORIAN
METHOD:PUBLISH
X-WR-CALNAME:Tambouren Steinen
X-ORIGINAL-URL:https://www.tambouren-steinen.ch
X-WR-CALDESC:Veranstaltungen für Tambouren Steinen
REFRESH-INTERVAL;VALUE=DURATION:PT1H
X-Robots-Tag:noindex
X-PUBLISHED-TTL:PT1H
BEGIN:VTIMEZONE
TZID:Europe/Zurich
BEGIN:DAYLIGHT
TZOFFSETFROM:+0100
TZOFFSETTO:+0200
TZNAME:CEST
DTSTART:20230326T010000
END:DAYLIGHT
BEGIN:STANDARD
TZOFFSETFROM:+0200
TZOFFSETTO:+0100
TZNAME:CET
DTSTART:20231029T010000
END:STANDARD
BEGIN:DAYLIGHT
TZOFFSETFROM:+0100
TZOFFSETTO:+0200
TZNAME:CEST
DTSTART:20240331T010000
END:DAYLIGHT
BEGIN:STANDARD
TZOFFSETFROM:+0200
TZOFFSETTO:+0100
TZNAME:CET
DTSTART:20241027T010000
END:STANDARD
BEGIN:DAYLIGHT
TZOFFSETFROM:+0100
TZOFFSETTO:+0200
TZNAME:CEST
DTSTART:20250330T010000
END:DAYLIGHT
BEGIN:STANDARD
TZOFFSETFROM:+0200
TZOFFSETTO:+0100
TZNAME:CET
DTSTART:20251026T010000
END:STANDARD
BEGIN:DAYLIGHT
TZOFFSETFROM:+0100
TZOFFSETTO:+0200
TZNAME:CEST
DTSTART:20260329T010000
END:DAYLIGHT
BEGIN:STANDARD
TZOFFSETFROM:+0200
TZOFFSETTO:+0100
TZNAME:CET
DTSTART:20261025T010000
END:STANDARD
BEGIN:DAYLIGHT
TZOFFSETFROM:+0100
TZOFFSETTO:+0200
TZNAME:CEST
DTSTART:20270328T010000
END:DAYLIGHT
BEGIN:STANDARD
TZOFFSETFROM:+0200
TZOFFSETTO:+0100
TZNAME:CET
DTSTART:20271031T010000
END:STANDARD
END:VTIMEZONE
BEGIN:VEVENT
DTSTART;VALUE=DATE:20260328
DTEND;VALUE=DATE:20260329
DTSTAMP:20260420T061459
CREATED:20260114T072224Z
LAST-MODIFIED:20260114T072224Z
UID:4366-1774656000-1774742399@www.tambouren-steinen.ch
SUMMARY:Priis Chlefälä
DESCRIPTION:
URL:https://www.tambouren-steinen.ch/event/priis-chlefaelae/
LOCATION:Schulhausplatz Steinen\, Switzerland
CATEGORIES:Allgemein
ORGANIZER;CN="Tambourenverein Steinen":MAILTO:praesident@tambouren-steinen.ch
END:VEVENT
BEGIN:VEVENT
DTSTART;VALUE=DATE:20260217
DTEND;VALUE=DATE:20260218
DTSTAMP:20260420T061459
CREATED:20260114T071935Z
LAST-MODIFIED:20260114T071935Z
UID:4364-1771286400-1771372799@www.tambouren-steinen.ch
SUMMARY:Güdeldienstag
DESCRIPTION:
URL:https://www.tambouren-steinen.ch/event/guedeldienstag-4/
LOCATION:Steinen\, Schwyz\, 6422\, Switzerland
CATEGORIES:Allgemein,Tambourenverein
END:VEVENT
BEGIN:VEVENT
DTSTART;VALUE=DATE:20260216
DTEND;VALUE=DATE:20260217
DTSTAMP:20260420T061459
CREATED:20260114T071814Z
LAST-MODIFIED:20260114T071900Z
UID:4360-1771200000-1771286399@www.tambouren-steinen.ch
SUMMARY:Güdelmontag
DESCRIPTION:
URL:https://www.tambouren-steinen.ch/event/guedelmaentig/
LOCATION:Steinen\, Schwyz\, 6422\, Switzerland
CATEGORIES:Allgemein,Tambourenverein
END:VEVENT
BEGIN:VEVENT
DTSTART;VALUE=DATE:20260214
DTEND;VALUE=DATE:20260215
DTSTAMP:20260420T061459
CREATED:20260114T071658Z
LAST-MODIFIED:20260114T071658Z
UID:4357-1771027200-1771113599@www.tambouren-steinen.ch
SUMMARY:Standortbestimmung
DESCRIPTION:
URL:https://www.tambouren-steinen.ch/event/standortbestimmung-4/
LOCATION:Musigträff\, Steinen\, Schwyz\, 6422\, Switzerland
CATEGORIES:Trommelschule
ORGANIZER;CN="Tambourenverein Steinen":MAILTO:praesident@tambouren-steinen.ch
END:VEVENT
BEGIN:VEVENT
DTSTART;TZID=Europe/Zurich:20260207T080000
DTEND;TZID=Europe/Zurich:20260207T170000
DTSTAMP:20260420T061459
CREATED:20260114T071518Z
LAST-MODIFIED:20260114T071518Z
UID:4349-1770451200-1770483600@www.tambouren-steinen.ch
SUMMARY:Auftritt Jungtambouren am Gnomä Ball
DESCRIPTION:
URL:https://www.tambouren-steinen.ch/event/auftritt-jungtambouren-am-gnomae-ball/
LOCATION:Schulhaus Christophorus\, Ibach\, Ibach\, Schwyz\, 6438
CATEGORIES:Trommelschule
END:VEVENT
BEGIN:VEVENT
DTSTART;VALUE=DATE:20260116
DTEND;VALUE=DATE:20260117
DTSTAMP:20260420T061459
CREATED:20260114T070848Z
LAST-MODIFIED:20260114T070848Z
UID:4347-1768521600-1768607999@www.tambouren-steinen.ch
SUMMARY:1. Fasnachtstag
DESCRIPTION:
URL:https://www.tambouren-steinen.ch/event/1-fasnachtstag-2/
LOCATION:Steinen\, Schwyz\, 6422\, Switzerland
CATEGORIES:Allgemein
END:VEVENT
BEGIN:VEVENT
DTSTART;VALUE=DATE:20251207
DTEND;VALUE=DATE:20251208
DTSTAMP:20260420T061459
CREATED:20250214T134918Z
LAST-MODIFIED:20250214T134918Z
UID:3939-1765065600-1765151999@www.tambouren-steinen.ch
SUMMARY:56. Generalversammlung
DESCRIPTION:
URL:https://www.tambouren-steinen.ch/event/56-generalversammlung/
LOCATION:Aula\, Steinen\, Schwyz\, 6422\, Switzerland
CATEGORIES:Tambourenverein
ORGANIZER;CN="Tambourenverein Steinen":MAILTO:praesident@tambouren-steinen.ch
END:VEVENT
BEGIN:VEVENT
DTSTART;VALUE=DATE:20251122
DTEND;VALUE=DATE:20251124
DTSTAMP:20260420T061459
CREATED:20250214T134554Z
LAST-MODIFIED:20251103T142534Z
UID:3937-1763769600-1763942399@www.tambouren-steinen.ch
SUMMARY:Probeweekend Jungtambouren
DESCRIPTION:
URL:https://www.tambouren-steinen.ch/event/probeweekend-jungtambouren-7/
LOCATION:Stoos\, Switzerland
CATEGORIES:Trommelschule
ORGANIZER;CN="Trommelschule Steinen":MAILTO:leiter@trommelschule.ch
END:VEVENT
BEGIN:VEVENT
DTSTART;TZID=Europe/Zurich:20251115T080000
DTEND;TZID=Europe/Zurich:20251115T170000
DTSTAMP:20260420T061459
CREATED:20251103T142503Z
LAST-MODIFIED:20251103T142503Z
UID:4292-1763193600-1763226000@www.tambouren-steinen.ch
SUMMARY:Morgarten Schlachtfeier
DESCRIPTION:
URL:https://www.tambouren-steinen.ch/event/morgarten-schlachtfeier/
LOCATION:Schwyz
CATEGORIES:Tambourenverein
END:VEVENT
BEGIN:VEVENT
DTSTART;VALUE=DATE:20251004
DTEND;VALUE=DATE:20251007
DTSTAMP:20260420T061459
CREATED:20250214T134218Z
LAST-MODIFIED:20250214T134651Z
UID:3932-1759536000-1759795199@www.tambouren-steinen.ch
SUMMARY:Steiner Chilbi
DESCRIPTION:
URL:https://www.tambouren-steinen.ch/event/steiner-chilbi/
LOCATION:Steinen\, Schwyz\, 6422\, Switzerland
CATEGORIES:Allgemein
END:VEVENT
BEGIN:VEVENT
DTSTART;VALUE=DATE:20250919
DTEND;VALUE=DATE:20250922
DTSTAMP:20260420T061459
CREATED:20250214T133842Z
LAST-MODIFIED:20250214T133842Z
UID:3925-1758240000-1758499199@www.tambouren-steinen.ch
SUMMARY:Eidgenössisches Jungtambourenfest
DESCRIPTION:
URL:https://www.tambouren-steinen.ch/event/eidgenoessisches-jungtambourenfest/
LOCATION:Lenzburg\, Aargau\, 5600\, Switzerland
CATEGORIES:Tambourenverein,Trommelschule
END:VEVENT
BEGIN:VEVENT
DTSTART;VALUE=DATE:20250906
DTEND;VALUE=DATE:20250907
DTSTAMP:20260420T061459
CREATED:20250214T133416Z
LAST-MODIFIED:20250214T133416Z
UID:3923-1757116800-1757203199@www.tambouren-steinen.ch
SUMMARY:Grümpelturnier Steinen
DESCRIPTION:
URL:https://www.tambouren-steinen.ch/event/gruempelturnier-steinen-2/
LOCATION:Au\, Steinen\, Schwyz\, 6422\, Switzerland
CATEGORIES:Tambourenverein
END:VEVENT
BEGIN:VEVENT
DTSTART;VALUE=DATE:20250802
DTEND;VALUE=DATE:20250810
DTSTAMP:20260420T061459
CREATED:20250214T133151Z
LAST-MODIFIED:20250214T133151Z
UID:3916-1754092800-1754783999@www.tambouren-steinen.ch
SUMMARY:Rigi Festspiele
DESCRIPTION:
URL:https://www.tambouren-steinen.ch/event/rigi-festspiele/
LOCATION:Rigi
CATEGORIES:Tambourenverein
END:VEVENT
BEGIN:VEVENT
DTSTART;VALUE=DATE:20250728
DTEND;VALUE=DATE:20250803
DTSTAMP:20260420T061459
CREATED:20250214T131649Z
LAST-MODIFIED:20250214T131649Z
UID:3913-1753660800-1754179199@www.tambouren-steinen.ch
SUMMARY:AuCa 2025
DESCRIPTION:
URL:https://www.tambouren-steinen.ch/event/auca-2025/
LOCATION:Melchtal\, Obwalden\, 6067\, Switzerland
CATEGORIES:Trommelschule
END:VEVENT
BEGIN:VEVENT
DTSTART;VALUE=DATE:20250704
DTEND;VALUE=DATE:20250707
DTSTAMP:20260420T061459
CREATED:20250214T131242Z
LAST-MODIFIED:20250214T131242Z
UID:3905-1751587200-1751846399@www.tambouren-steinen.ch
SUMMARY:Zentralschweizerisches Tambourenfest Langenthal
DESCRIPTION:
URL:https://www.tambouren-steinen.ch/event/zentralschweizerisches-tambourenfest-langenthal/
LOCATION:Langenthal\, Switzerland
CATEGORIES:Tambourenverein
END:VEVENT
BEGIN:VEVENT
DTSTART;VALUE=DATE:20250524
DTEND;VALUE=DATE:20250525
DTSTAMP:20260420T061459
CREATED:20250214T130608Z
LAST-MODIFIED:20250316T165526Z
UID:3903-1748044800-1748131199@www.tambouren-steinen.ch
SUMMARY:Tambuure-Tag
DESCRIPTION:Platzkonzert auf dem Postplatz (bei Schlechtwetter in der Aula) um 18:00 Uhr
URL:https://www.tambouren-steinen.ch/event/tambuure-tag-2/
LOCATION:Postplatz\, Steinen\, Schwyz\, 6422\, Switzerland
CATEGORIES:Tambourenverein
ORGANIZER;CN="Tambourenverein Steinen":MAILTO:praesident@tambouren-steinen.ch
END:VEVENT
BEGIN:VEVENT
DTSTART;TZID=Europe/Zurich:20250521T193000
DTEND;TZID=Europe/Zurich:20250521T220000
DTSTAMP:20260420T061459
CREATED:20250214T130408Z
LAST-MODIFIED:20250214T130408Z
UID:3901-1747855800-1747864800@www.tambouren-steinen.ch
SUMMARY:Schnupperprobe "Inäluegete"
DESCRIPTION:
URL:https://www.tambouren-steinen.ch/event/schnupperprobe-inaeluegete/
LOCATION:Musigträff\, Steinen\, Schwyz\, 6422\, Switzerland
CATEGORIES:Tambourenverein,Trommelschule
ORGANIZER;CN="Trommelschule Steinen":MAILTO:leiter@trommelschule.ch
END:VEVENT
BEGIN:VEVENT
DTSTART;VALUE=DATE:20250511
DTEND;VALUE=DATE:20250512
DTSTAMP:20260420T061459
CREATED:20250214T125619Z
LAST-MODIFIED:20250214T125619Z
UID:3896-1746921600-1747007999@www.tambouren-steinen.ch
SUMMARY:Muttertagsständli
DESCRIPTION:
URL:https://www.tambouren-steinen.ch/event/muttertagsstaendli-2/
LOCATION:Steinen\, Schwyz\, 6422\, Switzerland
CATEGORIES:Tambourenverein,Trommelschule
END:VEVENT
BEGIN:VEVENT
DTSTART;VALUE=DATE:20250412
DTEND;VALUE=DATE:20250413
DTSTAMP:20260420T061459
CREATED:20250214T125221Z
LAST-MODIFIED:20250404T194519Z
UID:3894-1744416000-1744502399@www.tambouren-steinen.ch
SUMMARY:19. Priis-Chlefelä
DESCRIPTION:
URL:https://www.tambouren-steinen.ch/event/19-priischlefaelae/
LOCATION:Mehrzweckhalle\, Steinen\, Schwyz\, 6422\, Switzerland
CATEGORIES:Tambourenverein
ORGANIZER;CN="Tambourenverein Steinen":MAILTO:praesident@tambouren-steinen.ch
END:VEVENT
BEGIN:VEVENT
DTSTART;VALUE=DATE:20250315
DTEND;VALUE=DATE:20250316
DTSTAMP:20260420T061459
CREATED:20250214T124654Z
LAST-MODIFIED:20250214T124654Z
UID:3892-1741996800-1742083199@www.tambouren-steinen.ch
SUMMARY:Standortbestimmung
DESCRIPTION:
URL:https://www.tambouren-steinen.ch/event/standortbestimmung-3/
LOCATION:Aula\, Steinen\, Schwyz\, 6422\, Switzerland
CATEGORIES:Trommelschule
ORGANIZER;CN="Trommelschule Steinen":MAILTO:leiter@trommelschule.ch
END:VEVENT
BEGIN:VEVENT
DTSTART;VALUE=DATE:20250303
DTEND;VALUE=DATE:20250305
DTSTAMP:20260420T061459
CREATED:20250214T130007Z
LAST-MODIFIED:20250214T130007Z
UID:3899-1740960000-1741132799@www.tambouren-steinen.ch
SUMMARY:Steiner Fasnacht
DESCRIPTION:
URL:https://www.tambouren-steinen.ch/event/steiner-fasnacht-2/
LOCATION:Steinen\, Schwyz\, 6422\, Switzerland
CATEGORIES:Allgemein
END:VEVENT
BEGIN:VEVENT
DTSTART;VALUE=DATE:20241207
DTEND;VALUE=DATE:20241208
DTSTAMP:20260420T061459
CREATED:20231216T153034Z
LAST-MODIFIED:20231216T153034Z
UID:3526-1733529600-1733615999@www.tambouren-steinen.ch
SUMMARY:55. GV Tambourenverein
DESCRIPTION:
URL:https://www.tambouren-steinen.ch/event/55-gv-tambourenverein/
LOCATION:Aula\, Steinen\, Schwyz\, 6422\, Switzerland
CATEGORIES:Tambourenverein
ORGANIZER;CN="Tambourenverein Steinen":MAILTO:praesident@tambouren-steinen.ch
END:VEVENT
BEGIN:VEVENT
DTSTART;VALUE=DATE:20241123
DTEND;VALUE=DATE:20241125
DTSTAMP:20260420T061459
CREATED:20231216T152928Z
LAST-MODIFIED:20231216T152928Z
UID:3524-1732320000-1732492799@www.tambouren-steinen.ch
SUMMARY:Probeweekend der Jungtambouren
DESCRIPTION:
URL:https://www.tambouren-steinen.ch/event/probeweekend-der-jungtambouren/
LOCATION:Schwyz
CATEGORIES:Trommelschule
ORGANIZER;CN="Trommelschule Steinen":MAILTO:leiter@trommelschule.ch
END:VEVENT
BEGIN:VEVENT
DTSTART;VALUE=DATE:20240921
DTEND;VALUE=DATE:20240923
DTSTAMP:20260420T061459
CREATED:20231216T152834Z
LAST-MODIFIED:20231216T152834Z
UID:3522-1726876800-1727049599@www.tambouren-steinen.ch
SUMMARY:ZJTPF Schwyz 2024
DESCRIPTION:
URL:https://www.tambouren-steinen.ch/event/zjtpf-schwyz-2024/
LOCATION:Schwyz\, Schwyz\, 6430\, Switzerland
CATEGORIES:Trommelschule
ORGANIZER;CN="Tambourenverein Schwyz":MAILTO:sandro@roteschwyzer.ch
END:VEVENT
BEGIN:VEVENT
DTSTART;VALUE=DATE:20240914
DTEND;VALUE=DATE:20240916
DTSTAMP:20260420T061459
CREATED:20231216T152710Z
LAST-MODIFIED:20231216T152710Z
UID:3520-1726272000-1726444799@www.tambouren-steinen.ch
SUMMARY:Probeweekend fürs Jungtambourenfest
DESCRIPTION:
URL:https://www.tambouren-steinen.ch/event/probeweekend-fuers-jungtambourenfest/
LOCATION:Steinen\, Schwyz\, 6422\, Switzerland
CATEGORIES:Trommelschule
ORGANIZER;CN="Trommelschule Steinen":MAILTO:leiter@trommelschule.ch
END:VEVENT
BEGIN:VEVENT
DTSTART;VALUE=DATE:20240906
DTEND;VALUE=DATE:20240909
DTSTAMP:20260420T061459
CREATED:20231216T152615Z
LAST-MODIFIED:20231216T152615Z
UID:3517-1725580800-1725839999@www.tambouren-steinen.ch
SUMMARY:Einsatz 900 Jahre Steinen
DESCRIPTION:
URL:https://www.tambouren-steinen.ch/event/einsatz-900-jahre-steinen/
LOCATION:Steinen\, Schwyz\, 6422\, Switzerland
CATEGORIES:Allgemein
END:VEVENT
BEGIN:VEVENT
DTSTART;VALUE=DATE:20240719
DTEND;VALUE=DATE:20240729
DTSTAMP:20260420T061459
CREATED:20220906T191554Z
LAST-MODIFIED:20240127T095542Z
UID:2898-1721347200-1722211199@www.tambouren-steinen.ch
SUMMARY:JUCA 2024
DESCRIPTION:Für Kinder und Jugendliche ist das Sommerlager jeweils ein unvergessliches musikalisches wie gesellschaftliches Erlebnis. Die Teilnehmer kommen aus der ganzen Schweiz zusammen\, um während einer Woche zu musizieren und sich über die Vereins- und Kantonsgrenzen hinweg auszutauschen. Höhepunkt der Trainingswoche sind jeweils die Abschlusskonzerte in verschiedenen Städten. Geleitet wird das Juca von einem erfahren Team. \nAnmeldefrist: 30. April
URL:https://www.tambouren-steinen.ch/event/juca-2024/
LOCATION:Schwyz
CATEGORIES:Trommelschule
ORGANIZER;CN="STPV":MAILTO:info@stpv-astf.ch
END:VEVENT
BEGIN:VEVENT
DTSTART;VALUE=DATE:20240601
DTEND;VALUE=DATE:20240602
DTSTAMP:20260420T061459
CREATED:20231212T182824Z
LAST-MODIFIED:20231212T182844Z
UID:3499-1717200000-1717286399@www.tambouren-steinen.ch
SUMMARY:Tambuure-Tag
DESCRIPTION:
URL:https://www.tambouren-steinen.ch/event/tambuure-tag/
LOCATION:Postplatz\, Steinen\, Schwyz\, 6422\, Switzerland
CATEGORIES:Allgemein
ORGANIZER;CN="Tambourenverein Steinen":MAILTO:praesident@tambouren-steinen.ch
END:VEVENT
BEGIN:VEVENT
DTSTART;VALUE=DATE:20240522
DTEND;VALUE=DATE:20240523
DTSTAMP:20260420T061459
CREATED:20231216T152018Z
LAST-MODIFIED:20231216T152018Z
UID:3514-1716336000-1716422399@www.tambouren-steinen.ch
SUMMARY:Schnupperprobe "Inäluegätä"
DESCRIPTION:
URL:https://www.tambouren-steinen.ch/event/schnupperprobe-inaeluegaetae/
LOCATION:Steinen\, Schwyz\, 6422\, Switzerland
CATEGORIES:Allgemein
ORGANIZER;CN="Trommelschule Steinen":MAILTO:leiter@trommelschule.ch
END:VEVENT
BEGIN:VEVENT
DTSTART;VALUE=DATE:20240512
DTEND;VALUE=DATE:20240513
DTSTAMP:20260420T061459
CREATED:20231212T182644Z
LAST-MODIFIED:20240508T191807Z
UID:3497-1715472000-1715558399@www.tambouren-steinen.ch
SUMMARY:Muttertagsständchen
DESCRIPTION:
URL:https://www.tambouren-steinen.ch/event/muttertagsstaendchen-2/
LOCATION:Aula\, Steinen\, Schwyz\, 6422\, Switzerland
CATEGORIES:Allgemein
END:VEVENT
END:VCALENDAR